Package: GAPGOM Version: 1.16.0 Command: chmod a+r GAPGOM -R && F:\biocbuild\bbs-3.17-bioc\R\bin\R.exe CMD build --keep-empty-dirs --no-resave-data GAPGOM StartedAt: 2023-10-15 19:23:05 -0400 (Sun, 15 Oct 2023) EndedAt: 2023-10-15 19:23:58 -0400 (Sun, 15 Oct 2023) EllapsedTime: 53.7 seconds RetCode: 1 Status: ERROR PackageFile: None PackageFileSize: NA