Package: GAPGOM Version: 1.16.0 Command: /home/biocbuild/bbs-3.17-bioc/R/bin/R CMD build --keep-empty-dirs --no-resave-data GAPGOM StartedAt: 2023-10-15 16:51:53 -0400 (Sun, 15 Oct 2023) EndedAt: 2023-10-15 16:52:37 -0400 (Sun, 15 Oct 2023) EllapsedTime: 43.3 seconds RetCode: 1 Status: ERROR PackageFile: None PackageFileSize: NA