Package: GAPGOM Version: 1.16.0 Command: /Library/Frameworks/R.framework/Resources/bin/R CMD build --keep-empty-dirs --no-resave-data GAPGOM StartedAt: 2023-10-15 18:25:42 -0400 (Sun, 15 Oct 2023) EndedAt: 2023-10-15 18:27:27 -0400 (Sun, 15 Oct 2023) EllapsedTime: 104.7 seconds RetCode: 1 Status: ERROR PackageFile: None PackageFileSize: NA