Package: GA4GHshiny Version: 1.22.0 Command: F:\biocbuild\bbs-3.17-bioc\R\bin\R.exe CMD INSTALL GA4GHshiny StartedAt: 2023-10-15 16:55:32 -0400 (Sun, 15 Oct 2023) EndedAt: 2023-10-15 16:56:21 -0400 (Sun, 15 Oct 2023) EllapsedTime: 49.3 seconds RetCode: 0 Status: OK