Package: GA4GHshiny Version: 1.22.0 Command: F:\biocbuild\bbs-3.17-bioc\R\bin\R.exe CMD check --no-multiarch --install=check:GA4GHshiny.install-out.txt --library=F:\biocbuild\bbs-3.17-bioc\R\library --no-vignettes --timings GA4GHshiny_1.22.0.tar.gz StartedAt: 2023-10-16 02:20:29 -0400 (Mon, 16 Oct 2023) EndedAt: 2023-10-16 02:25:21 -0400 (Mon, 16 Oct 2023) EllapsedTime: 292.0 seconds RetCode: 0 Status: OK CheckDir: GA4GHshiny.Rcheck Warnings: 0