Package: GA4GHshiny Version: 1.22.0 Command: rm -rf GA4GHshiny.buildbin-libdir && mkdir GA4GHshiny.buildbin-libdir && F:\biocbuild\bbs-3.17-bioc\R\bin\R.exe CMD INSTALL --build --library=GA4GHshiny.buildbin-libdir GA4GHshiny_1.22.0.tar.gz StartedAt: 2023-10-16 08:49:34 -0400 (Mon, 16 Oct 2023) EndedAt: 2023-10-16 08:50:31 -0400 (Mon, 16 Oct 2023) EllapsedTime: 57.1 seconds RetCode: 0 Status: OK PackageFile: GA4GHshiny_1.22.0.zip PackageFileSize: 478.3 KiB