Package: GA4GHshiny Version: 1.22.0 Command: /home/biocbuild/bbs-3.17-bioc/R/bin/R CMD check --install=check:GA4GHshiny.install-out.txt --library=/home/biocbuild/bbs-3.17-bioc/R/site-library --timings GA4GHshiny_1.22.0.tar.gz StartedAt: 2023-10-15 21:26:41 -0400 (Sun, 15 Oct 2023) EndedAt: 2023-10-15 21:31:27 -0400 (Sun, 15 Oct 2023) EllapsedTime: 285.5 seconds RetCode: 0 Status: OK CheckDir: GA4GHshiny.Rcheck Warnings: 0