Package: GA4GHshiny Version: 1.22.0 Command: /home/biocbuild/bbs-3.17-bioc/R/bin/R CMD build --keep-empty-dirs --no-resave-data GA4GHshiny StartedAt: 2023-10-15 16:51:36 -0400 (Sun, 15 Oct 2023) EndedAt: 2023-10-15 16:52:18 -0400 (Sun, 15 Oct 2023) EllapsedTime: 42.4 seconds RetCode: 0 Status: OK PackageFile: GA4GHshiny_1.22.0.tar.gz PackageFileSize: 298.8 KiB