Package: GA4GHshiny Version: 1.22.0 Command: /Library/Frameworks/R.framework/Resources/bin/R CMD INSTALL GA4GHshiny StartedAt: 2023-10-15 16:20:03 -0400 (Sun, 15 Oct 2023) EndedAt: 2023-10-15 16:22:14 -0400 (Sun, 15 Oct 2023) EllapsedTime: 130.9 seconds RetCode: 0 Status: OK