Package: GA4GHshiny Version: 1.22.0 Command: /Library/Frameworks/R.framework/Resources/bin/R CMD check --install=check:GA4GHshiny.install-out.txt --library=/Library/Frameworks/R.framework/Resources/library --no-vignettes --timings GA4GHshiny_1.22.0.tar.gz StartedAt: 2023-10-16 01:51:55 -0400 (Mon, 16 Oct 2023) EndedAt: 2023-10-16 02:03:21 -0400 (Mon, 16 Oct 2023) EllapsedTime: 686.4 seconds RetCode: 0 Status: OK CheckDir: GA4GHshiny.Rcheck Warnings: 0