Package: GA4GHshiny Version: 1.22.0 Command: rm -rf GA4GHshiny.buildbin-libdir && mkdir GA4GHshiny.buildbin-libdir && /Users/biocbuild/BBS/utils/build-universal.sh GA4GHshiny_1.22.0.tar.gz /Library/Frameworks/R.framework/Resources/bin/R GA4GHshiny.buildbin-libdir StartedAt: 2023-10-16 09:25:59 -0400 (Mon, 16 Oct 2023) EndedAt: 2023-10-16 09:28:21 -0400 (Mon, 16 Oct 2023) EllapsedTime: 141.9 seconds RetCode: 0 Status: OK PackageFile: GA4GHshiny_1.22.0.tgz PackageFileSize: 475.7 KiB