Package: GA4GHclient Version: 1.24.0 Command: chmod a+r GA4GHclient -R && F:\biocbuild\bbs-3.17-bioc\R\bin\R.exe CMD build --keep-empty-dirs --no-resave-data GA4GHclient StartedAt: 2023-10-15 19:22:15 -0400 (Sun, 15 Oct 2023) EndedAt: 2023-10-15 19:24:27 -0400 (Sun, 15 Oct 2023) EllapsedTime: 131.2 seconds RetCode: 0 Status: OK PackageFile: GA4GHclient_1.24.0.tar.gz PackageFileSize: 636.9 KiB