Package: GA4GHclient Version: 1.24.0 Command: rm -rf GA4GHclient.buildbin-libdir && mkdir GA4GHclient.buildbin-libdir && F:\biocbuild\bbs-3.17-bioc\R\bin\R.exe CMD INSTALL --build --library=GA4GHclient.buildbin-libdir GA4GHclient_1.24.0.tar.gz StartedAt: 2023-10-16 08:49:32 -0400 (Mon, 16 Oct 2023) EndedAt: 2023-10-16 08:50:21 -0400 (Mon, 16 Oct 2023) EllapsedTime: 48.4 seconds RetCode: 0 Status: OK PackageFile: GA4GHclient_1.24.0.zip PackageFileSize: 757.3 KiB