Package: GA4GHclient Version: 1.24.0 Command: /home/biocbuild/bbs-3.17-bioc/R/bin/R CMD INSTALL GA4GHclient StartedAt: 2023-10-15 15:23:49 -0400 (Sun, 15 Oct 2023) EndedAt: 2023-10-15 15:24:30 -0400 (Sun, 15 Oct 2023) EllapsedTime: 40.7 seconds RetCode: 0 Status: OK