Package: GA4GHclient Version: 1.24.0 Command: /Library/Frameworks/R.framework/Resources/bin/R CMD build --keep-empty-dirs --no-resave-data GA4GHclient StartedAt: 2023-10-15 18:25:01 -0400 (Sun, 15 Oct 2023) EndedAt: 2023-10-15 18:28:08 -0400 (Sun, 15 Oct 2023) EllapsedTime: 187.5 seconds RetCode: 0 Status: OK PackageFile: GA4GHclient_1.24.0.tar.gz PackageFileSize: 636.5 KiB