Package: FuseSOM Version: 1.2.0 Command: F:\biocbuild\bbs-3.17-bioc\R\bin\R.exe CMD INSTALL FuseSOM StartedAt: 2023-10-15 16:57:16 -0400 (Sun, 15 Oct 2023) EndedAt: 2023-10-15 16:57:48 -0400 (Sun, 15 Oct 2023) EllapsedTime: 32.6 seconds RetCode: 0 Status: OK