Package: FuseSOM Version: 1.2.0 Command: chmod a+r FuseSOM -R && F:\biocbuild\bbs-3.17-bioc\R\bin\R.exe CMD build --keep-empty-dirs --no-resave-data FuseSOM StartedAt: 2023-10-15 19:22:15 -0400 (Sun, 15 Oct 2023) EndedAt: 2023-10-15 19:23:27 -0400 (Sun, 15 Oct 2023) EllapsedTime: 72.9 seconds RetCode: 0 Status: OK PackageFile: FuseSOM_1.2.0.tar.gz PackageFileSize: 1.887 MiB