Package: FuseSOM Version: 1.2.0 Command: rm -rf FuseSOM.buildbin-libdir && mkdir FuseSOM.buildbin-libdir && F:\biocbuild\bbs-3.17-bioc\R\bin\R.exe CMD INSTALL --build --library=FuseSOM.buildbin-libdir FuseSOM_1.2.0.tar.gz StartedAt: 2023-10-16 08:49:31 -0400 (Mon, 16 Oct 2023) EndedAt: 2023-10-16 08:50:05 -0400 (Mon, 16 Oct 2023) EllapsedTime: 33.9 seconds RetCode: 0 Status: OK PackageFile: FuseSOM_1.2.0.zip PackageFileSize: 1.963 MiB