Package: FuseSOM Version: 1.2.0 Command: /home/biocbuild/bbs-3.17-bioc/R/bin/R CMD check --install=check:FuseSOM.install-out.txt --library=/home/biocbuild/bbs-3.17-bioc/R/site-library --timings FuseSOM_1.2.0.tar.gz StartedAt: 2023-10-15 21:26:21 -0400 (Sun, 15 Oct 2023) EndedAt: 2023-10-15 21:29:43 -0400 (Sun, 15 Oct 2023) EllapsedTime: 201.2 seconds RetCode: 0 Status: OK CheckDir: FuseSOM.Rcheck Warnings: 0