Package: FuseSOM Version: 1.2.0 Command: /Library/Frameworks/R.framework/Resources/bin/R CMD check --install=check:FuseSOM.install-out.txt --library=/Library/Frameworks/R.framework/Resources/library --no-vignettes --timings FuseSOM_1.2.0.tar.gz StartedAt: 2023-10-16 01:51:44 -0400 (Mon, 16 Oct 2023) EndedAt: 2023-10-16 01:58:50 -0400 (Mon, 16 Oct 2023) EllapsedTime: 425.4 seconds RetCode: 0 Status: OK CheckDir: FuseSOM.Rcheck Warnings: 0