Package: FunChIP Version: 1.26.0 Command: /home/biocbuild/bbs-3.17-bioc/R/bin/R CMD build --keep-empty-dirs --no-resave-data FunChIP StartedAt: 2023-10-15 16:51:09 -0400 (Sun, 15 Oct 2023) EndedAt: 2023-10-15 16:54:11 -0400 (Sun, 15 Oct 2023) EllapsedTime: 182.4 seconds RetCode: 0 Status: OK PackageFile: FunChIP_1.26.0.tar.gz PackageFileSize: 23 MiB