Package: FoldGO Version: 1.18.0 Command: F:\biocbuild\bbs-3.17-bioc\R\bin\R.exe CMD check --no-multiarch --install=check:FoldGO.install-out.txt --library=F:\biocbuild\bbs-3.17-bioc\R\library --no-vignettes --timings FoldGO_1.18.0.tar.gz StartedAt: 2023-10-16 02:18:26 -0400 (Mon, 16 Oct 2023) EndedAt: 2023-10-16 02:20:57 -0400 (Mon, 16 Oct 2023) EllapsedTime: 151.0 seconds RetCode: 0 Status: WARNINGS CheckDir: FoldGO.Rcheck Warnings: 1