Package: FoldGO Version: 1.18.0 Command: rm -rf FoldGO.buildbin-libdir && mkdir FoldGO.buildbin-libdir && F:\biocbuild\bbs-3.17-bioc\R\bin\R.exe CMD INSTALL --build --library=FoldGO.buildbin-libdir FoldGO_1.18.0.tar.gz StartedAt: 2023-10-16 08:49:17 -0400 (Mon, 16 Oct 2023) EndedAt: 2023-10-16 08:49:50 -0400 (Mon, 16 Oct 2023) EllapsedTime: 33.5 seconds RetCode: 0 Status: OK PackageFile: FoldGO_1.18.0.zip PackageFileSize: 1.246 MiB