Package: FoldGO Version: 1.18.0 Command: /home/biocbuild/bbs-3.17-bioc/R/bin/R CMD check --install=check:FoldGO.install-out.txt --library=/home/biocbuild/bbs-3.17-bioc/R/site-library --timings FoldGO_1.18.0.tar.gz StartedAt: 2023-10-15 21:25:44 -0400 (Sun, 15 Oct 2023) EndedAt: 2023-10-15 21:28:07 -0400 (Sun, 15 Oct 2023) EllapsedTime: 143.8 seconds RetCode: 1 Status: ERROR CheckDir: FoldGO.Rcheck Warnings: NA