Package: FoldGO Version: 1.18.0 Command: /home/biocbuild/bbs-3.17-bioc/R/bin/R CMD build --keep-empty-dirs --no-resave-data FoldGO StartedAt: 2023-10-15 16:50:43 -0400 (Sun, 15 Oct 2023) EndedAt: 2023-10-15 16:52:23 -0400 (Sun, 15 Oct 2023) EllapsedTime: 100.4 seconds RetCode: 0 Status: OK PackageFile: FoldGO_1.18.0.tar.gz PackageFileSize: 773.1 KiB