Package: FoldGO Version: 1.18.0 Command: /Library/Frameworks/R.framework/Resources/bin/R CMD build --keep-empty-dirs --no-resave-data FoldGO StartedAt: 2023-10-15 18:24:28 -0400 (Sun, 15 Oct 2023) EndedAt: 2023-10-15 18:29:13 -0400 (Sun, 15 Oct 2023) EllapsedTime: 284.4 seconds RetCode: 0 Status: OK PackageFile: FoldGO_1.18.0.tar.gz PackageFileSize: 778.9 KiB