Package: FlowSOM Version: 2.8.0 Command: chmod a+r FlowSOM -R && F:\biocbuild\bbs-3.17-bioc\R\bin\R.exe CMD build --keep-empty-dirs --no-resave-data FlowSOM StartedAt: 2023-10-15 19:19:36 -0400 (Sun, 15 Oct 2023) EndedAt: 2023-10-15 19:21:26 -0400 (Sun, 15 Oct 2023) EllapsedTime: 109.9 seconds RetCode: 0 Status: OK PackageFile: FlowSOM_2.8.0.tar.gz PackageFileSize: 5.792 MiB