Package: FlowSOM Version: 2.8.0 Command: rm -rf FlowSOM.buildbin-libdir && mkdir FlowSOM.buildbin-libdir && F:\biocbuild\bbs-3.17-bioc\R\bin\R.exe CMD INSTALL --build --library=FlowSOM.buildbin-libdir FlowSOM_2.8.0.tar.gz StartedAt: 2023-10-16 08:48:59 -0400 (Mon, 16 Oct 2023) EndedAt: 2023-10-16 08:49:27 -0400 (Mon, 16 Oct 2023) EllapsedTime: 28.5 seconds RetCode: 0 Status: OK PackageFile: FlowSOM_2.8.0.zip PackageFileSize: 6.109 MiB