Package: FlowSOM Version: 2.8.0 Command: /Library/Frameworks/R.framework/Resources/bin/R CMD INSTALL FlowSOM StartedAt: 2023-10-15 16:23:08 -0400 (Sun, 15 Oct 2023) EndedAt: 2023-10-15 16:23:52 -0400 (Sun, 15 Oct 2023) EllapsedTime: 43.5 seconds RetCode: 0 Status: OK