Package: FitHiC Version: 1.26.0 Command: /home/biocbuild/bbs-3.17-bioc/R/bin/R CMD check --install=check:FitHiC.install-out.txt --library=/home/biocbuild/bbs-3.17-bioc/R/site-library --timings FitHiC_1.26.0.tar.gz StartedAt: 2023-10-15 21:20:12 -0400 (Sun, 15 Oct 2023) EndedAt: 2023-10-15 21:24:29 -0400 (Sun, 15 Oct 2023) EllapsedTime: 257.5 seconds RetCode: 0 Status: OK CheckDir: FitHiC.Rcheck Warnings: 0