Package: FitHiC Version: 1.26.0 Command: /home/biocbuild/bbs-3.17-bioc/R/bin/R CMD build --keep-empty-dirs --no-resave-data FitHiC StartedAt: 2023-10-15 16:48:17 -0400 (Sun, 15 Oct 2023) EndedAt: 2023-10-15 16:50:40 -0400 (Sun, 15 Oct 2023) EllapsedTime: 143.1 seconds RetCode: 0 Status: OK PackageFile: FitHiC_1.26.0.tar.gz PackageFileSize: 27.56 MiB