Package: FindIT2 Version: 1.6.0 Command: /home/biocbuild/bbs-3.17-bioc/R/bin/R CMD build --keep-empty-dirs --no-resave-data FindIT2 StartedAt: 2023-10-15 16:48:12 -0400 (Sun, 15 Oct 2023) EndedAt: 2023-10-15 16:49:42 -0400 (Sun, 15 Oct 2023) EllapsedTime: 89.5 seconds RetCode: 0 Status: OK PackageFile: FindIT2_1.6.0.tar.gz PackageFileSize: 1.821 MiB