Package: FastqCleaner Version: 1.18.0 Command: F:\biocbuild\bbs-3.17-bioc\R\bin\R.exe CMD INSTALL FastqCleaner StartedAt: 2023-10-15 16:30:48 -0400 (Sun, 15 Oct 2023) EndedAt: 2023-10-15 16:31:57 -0400 (Sun, 15 Oct 2023) EllapsedTime: 69.7 seconds RetCode: 0 Status: OK