Package: FastqCleaner Version: 1.18.0 Command: chmod a+r FastqCleaner -R && F:\biocbuild\bbs-3.17-bioc\R\bin\R.exe CMD build --keep-empty-dirs --no-resave-data FastqCleaner StartedAt: 2023-10-15 19:10:40 -0400 (Sun, 15 Oct 2023) EndedAt: 2023-10-15 19:12:24 -0400 (Sun, 15 Oct 2023) EllapsedTime: 103.3 seconds RetCode: 0 Status: OK PackageFile: FastqCleaner_1.18.0.tar.gz PackageFileSize: 4.183 MiB