Package: FastqCleaner Version: 1.18.0 Command: rm -rf FastqCleaner.buildbin-libdir && mkdir FastqCleaner.buildbin-libdir && F:\biocbuild\bbs-3.17-bioc\R\bin\R.exe CMD INSTALL --build --library=FastqCleaner.buildbin-libdir FastqCleaner_1.18.0.tar.gz StartedAt: 2023-10-16 08:47:21 -0400 (Mon, 16 Oct 2023) EndedAt: 2023-10-16 08:48:30 -0400 (Mon, 16 Oct 2023) EllapsedTime: 68.8 seconds RetCode: 0 Status: OK PackageFile: FastqCleaner_1.18.0.zip PackageFileSize: 4.014 MiB