Package: FastqCleaner Version: 1.18.0 Command: /home/biocbuild/bbs-3.17-bioc/R/bin/R CMD check --install=check:FastqCleaner.install-out.txt --library=/home/biocbuild/bbs-3.17-bioc/R/site-library --timings FastqCleaner_1.18.0.tar.gz StartedAt: 2023-10-15 21:17:06 -0400 (Sun, 15 Oct 2023) EndedAt: 2023-10-15 21:20:50 -0400 (Sun, 15 Oct 2023) EllapsedTime: 224.1 seconds RetCode: 0 Status: OK CheckDir: FastqCleaner.Rcheck Warnings: 0