Package: FastqCleaner Version: 1.18.0 Command: /Library/Frameworks/R.framework/Resources/bin/R CMD check --install=check:FastqCleaner.install-out.txt --library=/Library/Frameworks/R.framework/Resources/library --no-vignettes --timings FastqCleaner_1.18.0.tar.gz StartedAt: 2023-10-16 01:38:52 -0400 (Mon, 16 Oct 2023) EndedAt: 2023-10-16 01:47:16 -0400 (Mon, 16 Oct 2023) EllapsedTime: 503.7 seconds RetCode: 0 Status: OK CheckDir: FastqCleaner.Rcheck Warnings: 0