Package: FastqCleaner Version: 1.18.0 Command: /Library/Frameworks/R.framework/Resources/bin/R CMD build --keep-empty-dirs --no-resave-data FastqCleaner StartedAt: 2023-10-15 18:17:46 -0400 (Sun, 15 Oct 2023) EndedAt: 2023-10-15 18:20:52 -0400 (Sun, 15 Oct 2023) EllapsedTime: 186.1 seconds RetCode: 0 Status: OK PackageFile: FastqCleaner_1.18.0.tar.gz PackageFileSize: 4.296 MiB