Package: FScanR Version: 1.10.0 Command: chmod a+r FScanR -R && F:\biocbuild\bbs-3.17-bioc\R\bin\R.exe CMD build --keep-empty-dirs --no-resave-data FScanR StartedAt: 2023-10-15 19:22:04 -0400 (Sun, 15 Oct 2023) EndedAt: 2023-10-15 19:22:12 -0400 (Sun, 15 Oct 2023) EllapsedTime: 8.1 seconds RetCode: 0 Status: OK PackageFile: FScanR_1.10.0.tar.gz PackageFileSize: 904.9 KiB