Package: FScanR Version: 1.10.0 Command: rm -rf FScanR.buildbin-libdir && mkdir FScanR.buildbin-libdir && F:\biocbuild\bbs-3.17-bioc\R\bin\R.exe CMD INSTALL --build --library=FScanR.buildbin-libdir FScanR_1.10.0.tar.gz StartedAt: 2023-10-16 08:49:26 -0400 (Mon, 16 Oct 2023) EndedAt: 2023-10-16 08:49:32 -0400 (Mon, 16 Oct 2023) EllapsedTime: 6.6 seconds RetCode: 0 Status: OK PackageFile: FScanR_1.10.0.zip PackageFileSize: 915.9 KiB