Package: FScanR Version: 1.10.0 Command: /home/biocbuild/bbs-3.17-bioc/R/bin/R CMD check --install=check:FScanR.install-out.txt --library=/home/biocbuild/bbs-3.17-bioc/R/site-library --timings FScanR_1.10.0.tar.gz StartedAt: 2023-10-15 21:26:17 -0400 (Sun, 15 Oct 2023) EndedAt: 2023-10-15 21:26:33 -0400 (Sun, 15 Oct 2023) EllapsedTime: 16.0 seconds RetCode: 1 Status: ERROR CheckDir: FScanR.Rcheck Warnings: NA