Package: FRGEpistasis Version: 1.36.0 Command: F:\biocbuild\bbs-3.17-bioc\R\bin\R.exe CMD INSTALL FRGEpistasis StartedAt: 2023-10-15 17:01:25 -0400 (Sun, 15 Oct 2023) EndedAt: 2023-10-15 17:01:36 -0400 (Sun, 15 Oct 2023) EllapsedTime: 10.4 seconds RetCode: 0 Status: OK