Package: FRGEpistasis Version: 1.36.0 Command: F:\biocbuild\bbs-3.17-bioc\R\bin\R.exe CMD check --no-multiarch --install=check:FRGEpistasis.install-out.txt --library=F:\biocbuild\bbs-3.17-bioc\R\library --no-vignettes --timings FRGEpistasis_1.36.0.tar.gz StartedAt: 2023-10-16 02:18:41 -0400 (Mon, 16 Oct 2023) EndedAt: 2023-10-16 02:20:33 -0400 (Mon, 16 Oct 2023) EllapsedTime: 112.0 seconds RetCode: 0 Status: OK CheckDir: FRGEpistasis.Rcheck Warnings: 0