Package: FRGEpistasis Version: 1.36.0 Command: /home/biocbuild/bbs-3.17-bioc/R/bin/R CMD build --keep-empty-dirs --no-resave-data FRGEpistasis StartedAt: 2023-10-15 16:50:53 -0400 (Sun, 15 Oct 2023) EndedAt: 2023-10-15 16:51:05 -0400 (Sun, 15 Oct 2023) EllapsedTime: 11.6 seconds RetCode: 0 Status: OK PackageFile: FRGEpistasis_1.36.0.tar.gz PackageFileSize: 221.7 KiB