Package: FLAMES Version: 1.6.0 Command: /home/biocbuild/bbs-3.17-bioc/R/bin/R CMD check --install=check:FLAMES.install-out.txt --library=/home/biocbuild/bbs-3.17-bioc/R/site-library --timings FLAMES_1.6.0.tar.gz StartedAt: 2023-10-15 21:20:51 -0400 (Sun, 15 Oct 2023) EndedAt: 2023-10-15 21:37:17 -0400 (Sun, 15 Oct 2023) EllapsedTime: 986.5 seconds RetCode: 0 Status: WARNINGS CheckDir: FLAMES.Rcheck Warnings: 1