Package: FISHalyseR Version: 1.34.0 Command: /Library/Frameworks/R.framework/Resources/bin/R CMD check --install=check:FISHalyseR.install-out.txt --library=/Library/Frameworks/R.framework/Resources/library --no-vignettes --timings FISHalyseR_1.34.0.tar.gz StartedAt: 2023-10-16 01:42:00 -0400 (Mon, 16 Oct 2023) EndedAt: 2023-10-16 01:43:37 -0400 (Mon, 16 Oct 2023) EllapsedTime: 97.4 seconds RetCode: 0 Status: WARNINGS CheckDir: FISHalyseR.Rcheck Warnings: 2