Package: FEAST Version: 1.8.0 Command: chmod a+r FEAST -R && F:\biocbuild\bbs-3.17-bioc\R\bin\R.exe CMD build --keep-empty-dirs --no-resave-data FEAST StartedAt: 2023-10-15 19:12:25 -0400 (Sun, 15 Oct 2023) EndedAt: 2023-10-15 19:13:42 -0400 (Sun, 15 Oct 2023) EllapsedTime: 77.5 seconds RetCode: 0 Status: OK PackageFile: FEAST_1.8.0.tar.gz PackageFileSize: 3.373 MiB