Package: FEAST Version: 1.8.0 Command: /home/biocbuild/bbs-3.17-bioc/R/bin/R CMD build --keep-empty-dirs --no-resave-data FEAST StartedAt: 2023-10-15 16:47:37 -0400 (Sun, 15 Oct 2023) EndedAt: 2023-10-15 16:48:33 -0400 (Sun, 15 Oct 2023) EllapsedTime: 55.4 seconds RetCode: 0 Status: OK PackageFile: FEAST_1.8.0.tar.gz PackageFileSize: 3.438 MiB