Package: FEAST Version: 1.8.0 Command: /Library/Frameworks/R.framework/Resources/bin/R CMD build --keep-empty-dirs --no-resave-data FEAST StartedAt: 2023-10-15 18:18:49 -0400 (Sun, 15 Oct 2023) EndedAt: 2023-10-15 18:21:21 -0400 (Sun, 15 Oct 2023) EllapsedTime: 151.8 seconds RetCode: 0 Status: OK PackageFile: FEAST_1.8.0.tar.gz PackageFileSize: 3.453 MiB