Package: FCBF Version: 2.8.0 Command: F:\biocbuild\bbs-3.17-bioc\R\bin\R.exe CMD INSTALL FCBF StartedAt: 2023-10-15 16:02:42 -0400 (Sun, 15 Oct 2023) EndedAt: 2023-10-15 16:03:09 -0400 (Sun, 15 Oct 2023) EllapsedTime: 27.6 seconds RetCode: 0 Status: OK